BEGIN:VCALENDAR
VERSION:2.0
PRODID:-//Tukios.com/
BEGIN:VEVENT
UID:ed68b22d-f96c-4859-b9dc-56f6253ebc7e@www.sullivanfunerals.com
DTSTAMP:20260421T000417Z
DTSTART:20260422T210000Z
DTEND:20260423T010000Z
SUMMARY:Visitation
DESCRIPTION:
URL:https://www.sullivanfunerals.com/obituaries/allan-noworul
LOCATION: 530 W Boughton Rd  Bolingbrook IL 60440
GEO:41.7077923;-88.0889809
END:VEVENT
END:VCALENDAR