BEGIN:VCALENDAR
VERSION:2.0
PRODID:-//Tukios.com/
BEGIN:VEVENT
UID:0f18c200-1e88-4f87-8638-f28666a4e34c@www.sullivanfunerals.com
DTSTAMP:20260421T000802Z
DTSTART:20260423T153000Z
DTEND:20260423T163000Z
SUMMARY:Mass
DESCRIPTION:
URL:https://www.sullivanfunerals.com/obituaries/allan-noworul
LOCATION:Saint Francis of Assisi Catholic Church 1501 W. Boughton Road  
	Bolingbrook IL 60490
GEO:41.6993196;-88.1368883
END:VEVENT
END:VCALENDAR