BEGIN:VCALENDAR
VERSION:2.0
PRODID:-//Tukios.com/
BEGIN:VEVENT
UID:b3728e10-283d-403a-a922-00d5e590594e@www.sullivanfunerals.com
DTSTAMP:20260421T000638Z
DTSTART:20260423T170000Z
DTEND:20260423T173000Z
SUMMARY:Burial
DESCRIPTION:
URL:https://www.sullivanfunerals.com/obituaries/allan-noworul
LOCATION:Naperville Cemetery 705 S Washington St  Naperville IL 60540
GEO:41.7657352;-88.1493811
END:VEVENT
END:VCALENDAR