BEGIN:VCALENDAR
VERSION:2.0
PRODID:-//Tukios.com/
BEGIN:VEVENT
UID:b2c8748a-c5ca-444d-90e7-392bea59cf60@www.sullivanfunerals.com
DTSTAMP:20260423T233325Z
DTSTART:20260424T140000Z
DTEND:20260424T150000Z
SUMMARY:Puja
DESCRIPTION:
URL:https://www.sullivanfunerals.com/obituaries/hiraben-rangwala
LOCATION: 530 W Boughton Rd  Bolingbrook IL 60440
GEO:41.7077923;-88.0889809
END:VEVENT
END:VCALENDAR