BEGIN:VCALENDAR
VERSION:2.0
PRODID:-//Tukios.com/
BEGIN:VEVENT
UID:50226ce7-4d48-42e4-8d5b-045daaf86198@www.sullivanfunerals.com
DTSTAMP:20260423T232900Z
DTSTART:20260424T150000Z
DTEND:20260424T170000Z
SUMMARY:Visitation
DESCRIPTION:
URL:https://www.sullivanfunerals.com/obituaries/hiraben-rangwala
LOCATION: 530 W Boughton Rd  Bolingbrook IL 60440
GEO:41.7077923;-88.0889809
END:VEVENT
END:VCALENDAR