BEGIN:VCALENDAR
VERSION:2.0
PRODID:-//Tukios.com/
BEGIN:VEVENT
UID:2c6415df-25e8-4915-81e2-10c7f132befa@www.sullivanfunerals.com
DTSTAMP:20260423T233448Z
DTSTART:20260424T170000Z
DTEND:20260424T180000Z
SUMMARY:Cremation Ceremony
DESCRIPTION:
URL:https://www.sullivanfunerals.com/obituaries/hiraben-rangwala
LOCATION: 530 West Boughton Road  Bolingbrook  60440
GEO:41.7077923;-88.0889809
END:VEVENT
END:VCALENDAR