BEGIN:VCALENDAR
VERSION:2.0
PRODID:-//Tukios.com/
BEGIN:VEVENT
UID:0577caf8-e98d-4590-8711-df055ecb08b6@www.sullivanfunerals.com
DTSTAMP:20260423T233146Z
DTSTART:20260424T140000Z
DTEND:20260424T170000Z
SUMMARY:LiveStream
DESCRIPTION:
URL:https://www.sullivanfunerals.com/obituaries/hiraben-rangwala
LOCATION: 530 W Boughton Rd  Bolingbrook IL 60440
GEO:41.7077923;-88.0889809
END:VEVENT
END:VCALENDAR